BEGIN:VCALENDAR
VERSION:2.0
PRODID:-//Westgate Neighbors Association - ECPv6.15.20//NONSGML v1.0//EN
CALSCALE:GREGORIAN
METHOD:PUBLISH
X-WR-CALNAME:Westgate Neighbors Association
X-ORIGINAL-URL:https://www.westgateneighbors.org
X-WR-CALDESC:Events for Westgate Neighbors Association
REFRESH-INTERVAL;VALUE=DURATION:PT1H
X-Robots-Tag:noindex
X-PUBLISHED-TTL:PT1H
BEGIN:VTIMEZONE
TZID:America/Detroit
BEGIN:DAYLIGHT
TZOFFSETFROM:-0500
TZOFFSETTO:-0400
TZNAME:EDT
DTSTART:20250309T070000
END:DAYLIGHT
BEGIN:STANDARD
TZOFFSETFROM:-0400
TZOFFSETTO:-0500
TZNAME:EST
DTSTART:20251102T060000
END:STANDARD
BEGIN:DAYLIGHT
TZOFFSETFROM:-0500
TZOFFSETTO:-0400
TZNAME:EDT
DTSTART:20260308T070000
END:DAYLIGHT
BEGIN:STANDARD
TZOFFSETFROM:-0400
TZOFFSETTO:-0500
TZNAME:EST
DTSTART:20261101T060000
END:STANDARD
BEGIN:DAYLIGHT
TZOFFSETFROM:-0500
TZOFFSETTO:-0400
TZNAME:EDT
DTSTART:20270314T070000
END:DAYLIGHT
BEGIN:STANDARD
TZOFFSETFROM:-0400
TZOFFSETTO:-0500
TZNAME:EST
DTSTART:20271107T060000
END:STANDARD
END:VTIMEZONE
BEGIN:VEVENT
DTSTART;VALUE=DATE:20260606
DTEND;VALUE=DATE:20260607
DTSTAMP:20260423T065319
CREATED:20260314T225744Z
LAST-MODIFIED:20260314T225839Z
UID:31550-1780704000-1780790399@www.westgateneighbors.org
SUMMARY:Westgate Night Out: Scavenger Hunt
DESCRIPTION:Throughout Westgate! \nSAVE THE DATE\nMore details to come.
URL:https://www.westgateneighbors.org/event-calendar/westgate-night-out-scavenger-hunt/
LOCATION:OH
CATEGORIES:Community Event,Scavenger Hunt,Westgate Neighbors Association,Westgate Night Out
ATTACH;FMTTYPE=image/png:https://www.westgateneighbors.org/wp-content/uploads/2026/03/Screenshot-2026-03-14-at-6.56.36-PM.png
END:VEVENT
END:VCALENDAR