BEGIN:VCALENDAR
VERSION:2.0
PRODID:-//Westgate Neighbors Association - ECPv6.15.20//NONSGML v1.0//EN
CALSCALE:GREGORIAN
METHOD:PUBLISH
X-ORIGINAL-URL:https://www.westgateneighbors.org
X-WR-CALDESC:Events for Westgate Neighbors Association
REFRESH-INTERVAL;VALUE=DURATION:PT1H
X-Robots-Tag:noindex
X-PUBLISHED-TTL:PT1H
BEGIN:VTIMEZONE
TZID:America/Detroit
BEGIN:DAYLIGHT
TZOFFSETFROM:-0500
TZOFFSETTO:-0400
TZNAME:EDT
DTSTART:20250309T070000
END:DAYLIGHT
BEGIN:STANDARD
TZOFFSETFROM:-0400
TZOFFSETTO:-0500
TZNAME:EST
DTSTART:20251102T060000
END:STANDARD
BEGIN:DAYLIGHT
TZOFFSETFROM:-0500
TZOFFSETTO:-0400
TZNAME:EDT
DTSTART:20260308T070000
END:DAYLIGHT
BEGIN:STANDARD
TZOFFSETFROM:-0400
TZOFFSETTO:-0500
TZNAME:EST
DTSTART:20261101T060000
END:STANDARD
BEGIN:DAYLIGHT
TZOFFSETFROM:-0500
TZOFFSETTO:-0400
TZNAME:EDT
DTSTART:20270314T070000
END:DAYLIGHT
BEGIN:STANDARD
TZOFFSETFROM:-0400
TZOFFSETTO:-0500
TZNAME:EST
DTSTART:20271107T060000
END:STANDARD
END:VTIMEZONE
BEGIN:VEVENT
DTSTART;TZID=America/Detroit:20260913T120000
DTEND;TZID=America/Detroit:20260913T160000
DTSTAMP:20260423T110104
CREATED:20250111T235126Z
LAST-MODIFIED:20260314T230659Z
UID:26526-1789300800-1789315200@www.westgateneighbors.org
SUMMARY:Westgate Wags and Whiskers
DESCRIPTION:
URL:https://www.westgateneighbors.org/event-calendar/westgate-wags-and-whiskers/
LOCATION:West Gate Lodge No. 623 F&AM\, 2925 W Broad St\, Columbus\, OH\, 43204\, United States
CATEGORIES:Westgate Neighbors Association,Westgate Wags and Whiskers
ATTACH;FMTTYPE=image/jpeg:https://www.westgateneighbors.org/wp-content/uploads/2025/09/Candids_DSC09595_e-Matthew-Smith-scaled-1.jpg
END:VEVENT
END:VCALENDAR