BEGIN:VCALENDAR
VERSION:2.0
PRODID:-//Westgate Neighbors Association - ECPv6.15.20//NONSGML v1.0//EN
CALSCALE:GREGORIAN
METHOD:PUBLISH
X-WR-CALNAME:Westgate Neighbors Association
X-ORIGINAL-URL:https://www.westgateneighbors.org
X-WR-CALDESC:Events for Westgate Neighbors Association
REFRESH-INTERVAL;VALUE=DURATION:PT1H
X-Robots-Tag:noindex
X-PUBLISHED-TTL:PT1H
BEGIN:VTIMEZONE
TZID:America/Detroit
BEGIN:DAYLIGHT
TZOFFSETFROM:-0500
TZOFFSETTO:-0400
TZNAME:EDT
DTSTART:20240310T070000
END:DAYLIGHT
BEGIN:STANDARD
TZOFFSETFROM:-0400
TZOFFSETTO:-0500
TZNAME:EST
DTSTART:20241103T060000
END:STANDARD
BEGIN:DAYLIGHT
TZOFFSETFROM:-0500
TZOFFSETTO:-0400
TZNAME:EDT
DTSTART:20250309T070000
END:DAYLIGHT
BEGIN:STANDARD
TZOFFSETFROM:-0400
TZOFFSETTO:-0500
TZNAME:EST
DTSTART:20251102T060000
END:STANDARD
BEGIN:DAYLIGHT
TZOFFSETFROM:-0500
TZOFFSETTO:-0400
TZNAME:EDT
DTSTART:20260308T070000
END:DAYLIGHT
BEGIN:STANDARD
TZOFFSETFROM:-0400
TZOFFSETTO:-0500
TZNAME:EST
DTSTART:20261101T060000
END:STANDARD
END:VTIMEZONE
BEGIN:VEVENT
DTSTART;TZID=America/Detroit:20250719T090000
DTEND;TZID=America/Detroit:20250719T120000
DTSTAMP:20260423T053810
CREATED:20250111T224510Z
LAST-MODIFIED:20250113T174239Z
UID:26436-1752915600-1752926400@www.westgateneighbors.org
SUMMARY:Westgate Farmers Market
DESCRIPTION:Our Mission\nThe Westgate Farmers Market was created by residents seeking to address important community needs: \n\n\nmake healthy\, locally-produced foods more accessible to west side residents \n\n\nteach residents the benefits of including locally-grown produce in their shopping and daily meal planning \n\n\n\n\n\n\n\n\n\n\n\n\nGood food brings communities together.\n\n\n\n\nFRESH PRODUCE • HANDCRAFTED GOODS • LIVE MUSIC • FOOD TRUCKS
URL:https://www.westgateneighbors.org/event-calendar/westgate-farmers-market-4/
LOCATION:West Gate Lodge No. 623 F&AM\, 2925 W Broad St\, Columbus\, OH\, 43204\, United States
CATEGORIES:Westgate Farmers Market
END:VEVENT
BEGIN:VEVENT
DTSTART;TZID=America/Detroit:20250719T070000
DTEND;TZID=America/Detroit:20250719T090000
DTSTAMP:20260423T053810
CREATED:20250112T000345Z
LAST-MODIFIED:20250113T174240Z
UID:26540-1752908400-1752915600@www.westgateneighbors.org
SUMMARY:CWRC “Long Run” Saturdays
DESCRIPTION:Columbus Westside Running Club “Long Run” Saturdays \n\n7:00 a.m. “Summer” (June 7\, 2025 – September 27\, 2025)\n8:00 a.m. “Winter” (October 25\, 2025 – June 6\, 2026)\n\nAny distance\, out-and-back \nRefer to the website for any changes.
URL:https://www.westgateneighbors.org/event-calendar/cwrc-long-run-saturdays-8/
LOCATION:Glenwood United Methodist Church\, 2833 Valleyview Dr\, Columbus\, OH\, 43204
CATEGORIES:Columbus Westside Running Club,“Long Run” Saturdays
END:VEVENT
BEGIN:VEVENT
DTSTART;TZID=America/Detroit:20250717T181500
DTEND;TZID=America/Detroit:20250717T200000
DTSTAMP:20260423T053810
CREATED:20250112T154207Z
LAST-MODIFIED:20250113T174240Z
UID:26664-1752776100-1752782400@www.westgateneighbors.org
SUMMARY:CWRC “Trail” Thursdays
DESCRIPTION:Park in the gravel area. Headlamps required until Mar 6\, 2025\n(2 and 4-mile loops) \nhttps://www.facebook.com/ColumbusWestsideRunningClub
URL:https://www.westgateneighbors.org/event-calendar/cwrc-trail-thursdays-28/
LOCATION:Battelle Darby Metro Park\, 8465 Alkire Rd\, Grove City\, OH\, 43123
CATEGORIES:Columbus Westside Running Club,“Trail” Thursdays
END:VEVENT
BEGIN:VEVENT
DTSTART;TZID=America/Detroit:20250715T181500
DTEND;TZID=America/Detroit:20250715T200000
DTSTAMP:20260423T053810
CREATED:20250112T155321Z
LAST-MODIFIED:20250113T174240Z
UID:26701-1752603300-1752609600@www.westgateneighbors.org
SUMMARY:CWRC “Loopy” Tuesdays
DESCRIPTION:Park by the Water Towers\n(1-mile loops) \nhttps://www.facebook.com/ColumbusWestsideRunningClub
URL:https://www.westgateneighbors.org/event-calendar/cwrc-loopy-tuesdays-28/
LOCATION:Westgate Park – Enclosed Shelterhouse\, 3271 Wicklow Rd.\, Columbus\, Ohio\, 43204
CATEGORIES:Columbus Westside Running Club,“Loopy” Tuesdays
END:VEVENT
BEGIN:VEVENT
DTSTART;TZID=America/Detroit:20250714T180000
DTEND;TZID=America/Detroit:20250714T190000
DTSTAMP:20260423T053810
CREATED:20250111T233814Z
LAST-MODIFIED:20250113T174240Z
UID:26506-1752516000-1752519600@www.westgateneighbors.org
SUMMARY:WNA Board Meeting
DESCRIPTION:
URL:https://www.westgateneighbors.org/event-calendar/wna-board-meeting-5/
LOCATION:Columbus Metropolitan Library – Hilltop Branch\, 511 S Hague Ave\, Columbus\, OH\, 43202
CATEGORIES:Westgate Neighbors Association,WNA Board Meeting
END:VEVENT
BEGIN:VEVENT
DTSTART;TZID=America/Detroit:20250712T100000
DTEND;TZID=America/Detroit:20250712T190000
DTSTAMP:20260423T053810
CREATED:20250112T004141Z
LAST-MODIFIED:20250113T174240Z
UID:26599-1752314400-1752346800@www.westgateneighbors.org
SUMMARY:Hilltop Hop
DESCRIPTION:The businesses of Broad & Westmoor welcome all to the second Saturday of every month! \n\nThird Way Coffee House – Grab a drink!\nBest Side Design – Pop-up shop with local vendors\nClay Street Ceramics – paint your own pottery.
URL:https://www.westgateneighbors.org/event-calendar/hilltop-hop-7/
LOCATION:Broad & Westmoor Businesses\, 3058 W Broad St\, Columbus\, OH\, 43204
CATEGORIES:Hilltop Hop
END:VEVENT
BEGIN:VEVENT
DTSTART;TZID=America/Detroit:20250712T090000
DTEND;TZID=America/Detroit:20250712T120000
DTSTAMP:20260423T053810
CREATED:20250111T220828Z
LAST-MODIFIED:20250113T174240Z
UID:26388-1752310800-1752321600@www.westgateneighbors.org
SUMMARY:Breakfast at the Lodge
DESCRIPTION:A $8 donation is requested for adults\, $4 for kids. Choose from scrambled/fried eggs\, hash browns\, bacon\, sausage links\, toast\, biscuits and gravy\, pancakes\, French toast with toppings\, orange/apple juice/bottled water.\n\nWe accept cash\, check\, credit/debit card\, Venmo\, paypal\, you can use PayPal by entering our email (westgate623@gmail.com) or our PayPal me link (PayPal.me/westgatelodge) online or scanning our QR barcode at our check in table. Or if you can’t make the breakfast you are more than welcome to still donate to our charities from home\, or buy someone’s breakfast for them. Please put in the note section what the money is for.\n\n100% of the proceeds benefit Special Olympics and 2 Masonic youth groups
URL:https://www.westgateneighbors.org/event-calendar/breakfast-at-the-lodge-7/
LOCATION:West Gate Lodge No. 623 F&AM\, 2925 W Broad St\, Columbus\, OH\, 43204\, United States
CATEGORIES:Breakfast at the Lodge
END:VEVENT
BEGIN:VEVENT
DTSTART;TZID=America/Detroit:20250712T070000
DTEND;TZID=America/Detroit:20250712T090000
DTSTAMP:20260423T053810
CREATED:20250112T000331Z
LAST-MODIFIED:20250113T174240Z
UID:26538-1752303600-1752310800@www.westgateneighbors.org
SUMMARY:CWRC “Long Run” Saturdays
DESCRIPTION:Columbus Westside Running Club “Long Run” Saturdays \n\n7:00 a.m. “Summer” (June 7\, 2025 – September 27\, 2025)\n8:00 a.m. “Winter” (October 25\, 2025 – June 6\, 2026)\n\nAny distance\, out-and-back \nRefer to the website for any changes. \nhttps://www.facebook.com/ColumbusWestsideRunningClub
URL:https://www.westgateneighbors.org/event-calendar/cwrc-long-run-saturdays-6/
LOCATION:Glenwood United Methodist Church\, 2833 Valleyview Dr\, Columbus\, OH\, 43204
CATEGORIES:Columbus Westside Running Club,“Long Run” Saturdays
END:VEVENT
BEGIN:VEVENT
DTSTART;TZID=America/Detroit:20250710T181500
DTEND;TZID=America/Detroit:20250710T200000
DTSTAMP:20260423T053810
CREATED:20250112T154201Z
LAST-MODIFIED:20250113T174240Z
UID:26663-1752171300-1752177600@www.westgateneighbors.org
SUMMARY:CWRC “Trail” Thursdays
DESCRIPTION:Park in the gravel area. Headlamps required until Mar 6\, 2025\n(2 and 4-mile loops) \nhttps://www.facebook.com/ColumbusWestsideRunningClub
URL:https://www.westgateneighbors.org/event-calendar/cwrc-trail-thursdays-27/
LOCATION:Battelle Darby Metro Park\, 8465 Alkire Rd\, Grove City\, OH\, 43123
CATEGORIES:Columbus Westside Running Club,“Trail” Thursdays
END:VEVENT
BEGIN:VEVENT
DTSTART;TZID=America/Detroit:20250708T181500
DTEND;TZID=America/Detroit:20250708T200000
DTSTAMP:20260423T053810
CREATED:20250112T155308Z
LAST-MODIFIED:20250113T174240Z
UID:26700-1751998500-1752004800@www.westgateneighbors.org
SUMMARY:CWRC “Loopy” Tuesdays
DESCRIPTION:Park by the Water Towers\n(1-mile loops) \nhttps://www.facebook.com/ColumbusWestsideRunningClub
URL:https://www.westgateneighbors.org/event-calendar/cwrc-loopy-tuesdays-27/
LOCATION:Westgate Park – Enclosed Shelterhouse\, 3271 Wicklow Rd.\, Columbus\, Ohio\, 43204
CATEGORIES:Columbus Westside Running Club,“Loopy” Tuesdays
END:VEVENT
BEGIN:VEVENT
DTSTART;TZID=America/Detroit:20250705T090000
DTEND;TZID=America/Detroit:20250705T120000
DTSTAMP:20260423T053810
CREATED:20250111T224316Z
LAST-MODIFIED:20250113T174241Z
UID:26434-1751706000-1751716800@www.westgateneighbors.org
SUMMARY:Westgate Farmers Market
DESCRIPTION:Our Mission\nThe Westgate Farmers Market was created by residents seeking to address important community needs: \n\n\nmake healthy\, locally-produced foods more accessible to west side residents \n\n\nteach residents the benefits of including locally-grown produce in their shopping and daily meal planning \n\n\n\n\n\n\n\n\n\n\n\n\nGood food brings communities together.\n\n\n\n\nFRESH PRODUCE • HANDCRAFTED GOODS • LIVE MUSIC • FOOD TRUCKS
URL:https://www.westgateneighbors.org/event-calendar/westgate-farmers-market-3/
LOCATION:West Gate Lodge No. 623 F&AM\, 2925 W Broad St\, Columbus\, OH\, 43204\, United States
CATEGORIES:Westgate Farmers Market
END:VEVENT
BEGIN:VEVENT
DTSTART;TZID=America/Detroit:20250705T083000
DTEND;TZID=America/Detroit:20250705T100000
DTSTAMP:20260423T053810
CREATED:20250111T215447Z
LAST-MODIFIED:20250210T230023Z
UID:5346-1751704200-1751709600@www.westgateneighbors.org
SUMMARY:Hilltop U.S.A. 5K
DESCRIPTION:Welcome to the Hilltop U.S.A. 5K! \nSave the Date: Saturday\, July 5\, 2025 \nJoin us for the longest-running race on the Hilltop and support an incredible cause. Entry Fees vary – with Early Bird pricing before March 31st. \nGiving Back with Every Step \nSupporting Heroes: Every donation benefits the American Legion Don Gentile Post 532 Honor Guard. Together\, we’ve raised $22\,312.55 and counting! \nFueling Community Spirit: Your entry fees empower the Columbus Westside Running Club (CWRC)\, a vibrant\, free running community. Learn more about their inspiring work at www.cwrunclub.com. \nRace Perks\nFor a $30 registration fee\, snag a super comfy race shirt and a collector’s medal celebrating the United States Navy. Shine in your age group or conquer the ruck race for top honors and the chance to win awards. \nWho Can Join?\nWhether you’re running\, walking\, rucking\, or cheering\, your presence amplifies our cause. Open to all: seasoned athletes and first-timers alike. For the safety and enjoyment for our participants\, we kindly ask that you leave your dog at home. \nTo sign up\, donate\, volunteer\, see the map course\, the sponsors\, and more… please visit the website!
URL:https://www.westgateneighbors.org/event-calendar/hilltop-usa-5k-run/
LOCATION:Glenwood United Methodist Church\, 2833 Valleyview Dr\, Columbus\, OH\, 43204
CATEGORIES:Columbus Westside Running Club,Hilltop USA 5K Run
ATTACH;FMTTYPE=image/png:https://www.westgateneighbors.org/wp-content/uploads/2025/01/Hilltop-5K.png
END:VEVENT
BEGIN:VEVENT
DTSTART;TZID=America/Detroit:20250705T070000
DTEND;TZID=America/Detroit:20250705T090000
DTSTAMP:20260423T053810
CREATED:20250112T000321Z
LAST-MODIFIED:20250113T174241Z
UID:26537-1751698800-1751706000@www.westgateneighbors.org
SUMMARY:CWRC “Long Run” Saturdays
DESCRIPTION:Columbus Westside Running Club “Long Run” Saturdays \n\n7:00 a.m. “Summer” (June 7\, 2025 – September 27\, 2025)\n8:00 a.m. “Winter” (October 25\, 2025 – June 6\, 2026)\n\nAny distance\, out-and-back \nRefer to the website for any changes. \nhttps://www.facebook.com/ColumbusWestsideRunningClub
URL:https://www.westgateneighbors.org/event-calendar/cwrc-long-run-saturdays-5/
LOCATION:Glenwood United Methodist Church\, 2833 Valleyview Dr\, Columbus\, OH\, 43204
CATEGORIES:Columbus Westside Running Club,“Long Run” Saturdays
END:VEVENT
BEGIN:VEVENT
DTSTART;TZID=America/Detroit:20250703T181500
DTEND;TZID=America/Detroit:20250703T200000
DTSTAMP:20260423T053810
CREATED:20250112T154201Z
LAST-MODIFIED:20250113T174241Z
UID:26662-1751566500-1751572800@www.westgateneighbors.org
SUMMARY:CWRC “Trail” Thursdays
DESCRIPTION:Park in the gravel area. Headlamps required until Mar 6\, 2025\n(2 and 4-mile loops) \nhttps://www.facebook.com/ColumbusWestsideRunningClub
URL:https://www.westgateneighbors.org/event-calendar/cwrc-trail-thursdays-26/
LOCATION:Battelle Darby Metro Park\, 8465 Alkire Rd\, Grove City\, OH\, 43123
CATEGORIES:Columbus Westside Running Club,“Trail” Thursdays
END:VEVENT
BEGIN:VEVENT
DTSTART;TZID=America/Detroit:20250701T183000
DTEND;TZID=America/Detroit:20250701T203000
DTSTAMP:20260423T053810
CREATED:20250111T222819Z
LAST-MODIFIED:20250113T174241Z
UID:26409-1751394600-1751401800@www.westgateneighbors.org
SUMMARY:Greater Hilltop Area Commission Meeting
DESCRIPTION:
URL:https://www.westgateneighbors.org/event-calendar/greater-hilltop-area-commission-meeting-6/
LOCATION:Columbus Metropolitan Library – Hilltop Branch\, 511 S Hague Ave\, Columbus\, OH\, 43202
CATEGORIES:Greater Hilltop Area Commission Meeting
END:VEVENT
BEGIN:VEVENT
DTSTART;TZID=America/Detroit:20250701T181500
DTEND;TZID=America/Detroit:20250701T200000
DTSTAMP:20260423T053810
CREATED:20250112T155308Z
LAST-MODIFIED:20250113T174241Z
UID:26699-1751393700-1751400000@www.westgateneighbors.org
SUMMARY:CWRC “Loopy” Tuesdays
DESCRIPTION:Park by the Water Towers\n(1-mile loops) \nhttps://www.facebook.com/ColumbusWestsideRunningClub
URL:https://www.westgateneighbors.org/event-calendar/cwrc-loopy-tuesdays-26/
LOCATION:Westgate Park – Enclosed Shelterhouse\, 3271 Wicklow Rd.\, Columbus\, Ohio\, 43204
CATEGORIES:Columbus Westside Running Club,“Loopy” Tuesdays
END:VEVENT
BEGIN:VEVENT
DTSTART;TZID=America/Detroit:20250628T070000
DTEND;TZID=America/Detroit:20250628T090000
DTSTAMP:20260423T053810
CREATED:20250112T000313Z
LAST-MODIFIED:20250113T174241Z
UID:26536-1751094000-1751101200@www.westgateneighbors.org
SUMMARY:CWRC “Long Run” Saturdays
DESCRIPTION:Columbus Westside Running Club “Long Run” Saturdays \n\n7:00 a.m. “Summer” (June 7\, 2025 – September 27\, 2025)\n8:00 a.m. “Winter” (October 25\, 2025 – June 6\, 2026)\n\nAny distance\, out-and-back \nRefer to the website for any changes. \nhttps://www.facebook.com/ColumbusWestsideRunningClub
URL:https://www.westgateneighbors.org/event-calendar/cwrc-long-run-saturdays-4/
LOCATION:Glenwood United Methodist Church\, 2833 Valleyview Dr\, Columbus\, OH\, 43204
CATEGORIES:Columbus Westside Running Club,“Long Run” Saturdays
END:VEVENT
BEGIN:VEVENT
DTSTART;VALUE=DATE:20250628
DTEND;VALUE=DATE:20250629
DTSTAMP:20260423T053810
CREATED:20250111T235439Z
LAST-MODIFIED:20250113T174241Z
UID:26528-1751068800-1751155199@www.westgateneighbors.org
SUMMARY:Westgate Yard Sales
DESCRIPTION:Find treasures throughout all streets in the Westgate neighborhood!
URL:https://www.westgateneighbors.org/event-calendar/westgate-yard-sales/
LOCATION:OH
CATEGORIES:Westgate Yard Sale
END:VEVENT
BEGIN:VEVENT
DTSTART;TZID=America/Detroit:20250626T181500
DTEND;TZID=America/Detroit:20250626T200000
DTSTAMP:20260423T053810
CREATED:20250112T154201Z
LAST-MODIFIED:20250113T174242Z
UID:26661-1750961700-1750968000@www.westgateneighbors.org
SUMMARY:CWRC “Trail” Thursdays
DESCRIPTION:Park in the gravel area. Headlamps required until Mar 6\, 2025\n(2 and 4-mile loops) \nhttps://www.facebook.com/ColumbusWestsideRunningClub
URL:https://www.westgateneighbors.org/event-calendar/cwrc-trail-thursdays-25/
LOCATION:Battelle Darby Metro Park\, 8465 Alkire Rd\, Grove City\, OH\, 43123
CATEGORIES:Columbus Westside Running Club,“Trail” Thursdays
END:VEVENT
BEGIN:VEVENT
DTSTART;TZID=America/Detroit:20250624T181500
DTEND;TZID=America/Detroit:20250624T200000
DTSTAMP:20260423T053810
CREATED:20250112T155308Z
LAST-MODIFIED:20250113T174242Z
UID:26698-1750788900-1750795200@www.westgateneighbors.org
SUMMARY:CWRC “Loopy” Tuesdays
DESCRIPTION:Park by the Water Towers\n(1-mile loops) \nhttps://www.facebook.com/ColumbusWestsideRunningClub
URL:https://www.westgateneighbors.org/event-calendar/cwrc-loopy-tuesdays-25/
LOCATION:Westgate Park – Enclosed Shelterhouse\, 3271 Wicklow Rd.\, Columbus\, Ohio\, 43204
CATEGORIES:Columbus Westside Running Club,“Loopy” Tuesdays
END:VEVENT
BEGIN:VEVENT
DTSTART;TZID=America/Detroit:20250621T070000
DTEND;TZID=America/Detroit:20250621T090000
DTSTAMP:20260423T053810
CREATED:20250112T000305Z
LAST-MODIFIED:20250113T174242Z
UID:26535-1750489200-1750496400@www.westgateneighbors.org
SUMMARY:CWRC “Long Run” Saturdays
DESCRIPTION:Columbus Westside Running Club “Long Run” Saturdays \n\n7:00 a.m. “Summer” (June 7\, 2025 – September 27\, 2025)\n8:00 a.m. “Winter” (October 25\, 2025 – June 6\, 2026)\n\nAny distance\, out-and-back \nRefer to the website for any changes. \nhttps://www.facebook.com/ColumbusWestsideRunningClub
URL:https://www.westgateneighbors.org/event-calendar/cwrc-long-run-saturdays-3/
LOCATION:Glenwood United Methodist Church\, 2833 Valleyview Dr\, Columbus\, OH\, 43204
CATEGORIES:Columbus Westside Running Club,“Long Run” Saturdays
END:VEVENT
BEGIN:VEVENT
DTSTART;TZID=America/Detroit:20250619T181500
DTEND;TZID=America/Detroit:20250619T200000
DTSTAMP:20260423T053810
CREATED:20250112T154201Z
LAST-MODIFIED:20250113T174243Z
UID:26660-1750356900-1750363200@www.westgateneighbors.org
SUMMARY:CWRC “Trail” Thursdays
DESCRIPTION:Park in the gravel area. Headlamps required until Mar 6\, 2025\n(2 and 4-mile loops) \nhttps://www.facebook.com/ColumbusWestsideRunningClub
URL:https://www.westgateneighbors.org/event-calendar/cwrc-trail-thursdays-24/
LOCATION:Battelle Darby Metro Park\, 8465 Alkire Rd\, Grove City\, OH\, 43123
CATEGORIES:Columbus Westside Running Club,“Trail” Thursdays
END:VEVENT
BEGIN:VEVENT
DTSTART;TZID=America/Detroit:20250617T181500
DTEND;TZID=America/Detroit:20250617T200000
DTSTAMP:20260423T053810
CREATED:20250112T155308Z
LAST-MODIFIED:20250113T174243Z
UID:26697-1750184100-1750190400@www.westgateneighbors.org
SUMMARY:CWRC “Loopy” Tuesdays
DESCRIPTION:Park by the Water Towers\n(1-mile loops) \nhttps://www.facebook.com/ColumbusWestsideRunningClub
URL:https://www.westgateneighbors.org/event-calendar/cwrc-loopy-tuesdays-24/
LOCATION:Westgate Park – Enclosed Shelterhouse\, 3271 Wicklow Rd.\, Columbus\, Ohio\, 43204
CATEGORIES:Columbus Westside Running Club,“Loopy” Tuesdays
END:VEVENT
BEGIN:VEVENT
DTSTART;TZID=America/Detroit:20250614T133000
DTEND;TZID=America/Detroit:20250614T180000
DTSTAMP:20260423T053810
CREATED:20250111T234911Z
LAST-MODIFIED:20250614T031309Z
UID:26524-1749907800-1749924000@www.westgateneighbors.org
SUMMARY:Westgate Home and Garden Tour
DESCRIPTION:
URL:https://www.westgateneighbors.org/event-calendar/westgate-home-and-garden-tour/
LOCATION:West Gate Lodge No. 623 F&AM\, 2925 W Broad St\, Columbus\, OH\, 43204\, United States
CATEGORIES:Westgate Home and Garden Tour,Westgate Neighbors Association
END:VEVENT
BEGIN:VEVENT
DTSTART;TZID=America/Detroit:20250614T100000
DTEND;TZID=America/Detroit:20250614T190000
DTSTAMP:20260423T053810
CREATED:20250112T004145Z
LAST-MODIFIED:20250113T174243Z
UID:26600-1749895200-1749927600@www.westgateneighbors.org
SUMMARY:Hilltop Hop
DESCRIPTION:The businesses of Broad & Westmoor welcome all to the second Saturday of every month! \n\nThird Way Coffee House – Grab a drink!\nBest Side Design – Pop-up shop with local vendors\nClay Street Ceramics – paint your own pottery.
URL:https://www.westgateneighbors.org/event-calendar/hilltop-hop-6/
LOCATION:Broad & Westmoor Businesses\, 3058 W Broad St\, Columbus\, OH\, 43204
CATEGORIES:Hilltop Hop
END:VEVENT
BEGIN:VEVENT
DTSTART;TZID=America/Detroit:20250614T090000
DTEND;TZID=America/Detroit:20250614T120000
DTSTAMP:20260423T053810
CREATED:20250111T224204Z
LAST-MODIFIED:20250113T174244Z
UID:26432-1749891600-1749902400@www.westgateneighbors.org
SUMMARY:Westgate Farmers Market
DESCRIPTION:Our Mission\nThe Westgate Farmers Market was created by residents seeking to address important community needs: \n\n\nmake healthy\, locally-produced foods more accessible to west side residents \n\n\nteach residents the benefits of including locally-grown produce in their shopping and daily meal planning \n\n\n\n\n\n\n\n\n\n\n\n\nGood food brings communities together.\n\n\n\n\nFRESH PRODUCE • HANDCRAFTED GOODS • LIVE MUSIC • FOOD TRUCKS
URL:https://www.westgateneighbors.org/event-calendar/westgate-farmers-market-2/
LOCATION:West Gate Lodge No. 623 F&AM\, 2925 W Broad St\, Columbus\, OH\, 43204\, United States
CATEGORIES:Westgate Farmers Market
END:VEVENT
BEGIN:VEVENT
DTSTART;TZID=America/Detroit:20250614T090000
DTEND;TZID=America/Detroit:20250614T120000
DTSTAMP:20260423T053810
CREATED:20250111T220659Z
LAST-MODIFIED:20250524T162919Z
UID:26383-1749891600-1749902400@www.westgateneighbors.org
SUMMARY:Breakfast at the Lodge
DESCRIPTION:A $8 donation is requested for adults\, $4 for kids. Choose from scrambled/fried eggs\, hash browns\, bacon\, sausage links\, toast\, biscuits and gravy\, pancakes\, French toast with toppings\, orange/apple juice/bottled water.\n\nWe accept cash\, check\, credit/debit card\, Venmo\, paypal\, you can use PayPal by entering our email (westgate623@gmail.com) or our PayPal me link (PayPal.me/westgatelodge) online or scanning our QR barcode at our check in table. Or if you can’t make the breakfast you are more than welcome to still donate to our charities from home\, or buy someone’s breakfast for them. Please put in the note section what the money is for.\n\n100% of the proceeds benefit Special Olympics and 2 Masonic youth groups
URL:https://www.westgateneighbors.org/event-calendar/breakfast-at-the-lodge-5__trashed/
LOCATION:West Gate Lodge No. 623 F&AM\, 2925 W Broad St\, Columbus\, OH\, 43204\, United States
CATEGORIES:Breakfast at the Lodge
END:VEVENT
BEGIN:VEVENT
DTSTART;TZID=America/Detroit:20250614T070000
DTEND;TZID=America/Detroit:20250614T090000
DTSTAMP:20260423T053810
CREATED:20250112T000257Z
LAST-MODIFIED:20250113T174244Z
UID:26534-1749884400-1749891600@www.westgateneighbors.org
SUMMARY:CWRC “Long Run” Saturdays
DESCRIPTION:Columbus Westside Running Club “Long Run” Saturdays \n\n7:00 a.m. “Summer” (June 7\, 2025 – September 27\, 2025)\n8:00 a.m. “Winter” (October 25\, 2025 – June 6\, 2026)\n\nAny distance\, out-and-back \nRefer to the website for any changes. \nhttps://www.facebook.com/ColumbusWestsideRunningClub
URL:https://www.westgateneighbors.org/event-calendar/cwrc-long-run-saturdays-2/
LOCATION:Glenwood United Methodist Church\, 2833 Valleyview Dr\, Columbus\, OH\, 43204
CATEGORIES:Columbus Westside Running Club,“Long Run” Saturdays
END:VEVENT
BEGIN:VEVENT
DTSTART;TZID=America/Detroit:20250612T181500
DTEND;TZID=America/Detroit:20250612T200000
DTSTAMP:20260423T053810
CREATED:20250112T154201Z
LAST-MODIFIED:20250113T174244Z
UID:26659-1749752100-1749758400@www.westgateneighbors.org
SUMMARY:CWRC “Trail” Thursdays
DESCRIPTION:Park in the gravel area. Headlamps required until Mar 6\, 2025\n(2 and 4-mile loops) \nhttps://www.facebook.com/ColumbusWestsideRunningClub
URL:https://www.westgateneighbors.org/event-calendar/cwrc-trail-thursdays-23/
LOCATION:Battelle Darby Metro Park\, 8465 Alkire Rd\, Grove City\, OH\, 43123
CATEGORIES:Columbus Westside Running Club,“Trail” Thursdays
END:VEVENT
BEGIN:VEVENT
DTSTART;TZID=America/Detroit:20250610T181500
DTEND;TZID=America/Detroit:20250610T200000
DTSTAMP:20260423T053810
CREATED:20250112T155308Z
LAST-MODIFIED:20250113T174244Z
UID:26696-1749579300-1749585600@www.westgateneighbors.org
SUMMARY:CWRC “Loopy” Tuesdays
DESCRIPTION:Park by the Water Towers\n(1-mile loops) \nhttps://www.facebook.com/ColumbusWestsideRunningClub
URL:https://www.westgateneighbors.org/event-calendar/cwrc-loopy-tuesdays-23/
LOCATION:Westgate Park – Enclosed Shelterhouse\, 3271 Wicklow Rd.\, Columbus\, Ohio\, 43204
CATEGORIES:Columbus Westside Running Club,“Loopy” Tuesdays
END:VEVENT
END:VCALENDAR