BEGIN:VCALENDAR
VERSION:2.0
PRODID:-//Westgate Neighbors Association - ECPv6.15.20//NONSGML v1.0//EN
CALSCALE:GREGORIAN
METHOD:PUBLISH
X-ORIGINAL-URL:https://www.westgateneighbors.org
X-WR-CALDESC:Events for Westgate Neighbors Association
REFRESH-INTERVAL;VALUE=DURATION:PT1H
X-Robots-Tag:noindex
X-PUBLISHED-TTL:PT1H
BEGIN:VTIMEZONE
TZID:America/Detroit
BEGIN:DAYLIGHT
TZOFFSETFROM:-0500
TZOFFSETTO:-0400
TZNAME:EDT
DTSTART:20240310T070000
END:DAYLIGHT
BEGIN:STANDARD
TZOFFSETFROM:-0400
TZOFFSETTO:-0500
TZNAME:EST
DTSTART:20241103T060000
END:STANDARD
BEGIN:DAYLIGHT
TZOFFSETFROM:-0500
TZOFFSETTO:-0400
TZNAME:EDT
DTSTART:20250309T070000
END:DAYLIGHT
BEGIN:STANDARD
TZOFFSETFROM:-0400
TZOFFSETTO:-0500
TZNAME:EST
DTSTART:20251102T060000
END:STANDARD
BEGIN:DAYLIGHT
TZOFFSETFROM:-0500
TZOFFSETTO:-0400
TZNAME:EDT
DTSTART:20260308T070000
END:DAYLIGHT
BEGIN:STANDARD
TZOFFSETFROM:-0400
TZOFFSETTO:-0500
TZNAME:EST
DTSTART:20261101T060000
END:STANDARD
END:VTIMEZONE
BEGIN:VEVENT
DTSTART;TZID=America/Detroit:20250823T070000
DTEND;TZID=America/Detroit:20250823T090000
DTSTAMP:20260421T040912
CREATED:20250112T001735Z
LAST-MODIFIED:20250113T174236Z
UID:26556-1755932400-1755939600@www.westgateneighbors.org
SUMMARY:CWRC “Long Run” Saturdays
DESCRIPTION:Columbus Westside Running Club “Long Run” Saturdays \n\n7:00 a.m. “Summer” (June 7\, 2025 – September 27\, 2025)\n8:00 a.m. “Winter” (October 25\, 2025 – June 6\, 2026)\n\nAny distance\, out-and-back \nRefer to the website for any changes. \nhttps://www.facebook.com/ColumbusWestsideRunningClub
URL:https://www.westgateneighbors.org/event-calendar/cwrc-long-run-saturdays-13/
LOCATION:Glenwood United Methodist Church\, 2833 Valleyview Dr\, Columbus\, OH\, 43204
CATEGORIES:Columbus Westside Running Club,“Long Run” Saturdays
END:VEVENT
BEGIN:VEVENT
DTSTART;TZID=America/Detroit:20250821T181500
DTEND;TZID=America/Detroit:20250821T200000
DTSTAMP:20260421T040912
CREATED:20250112T155639Z
LAST-MODIFIED:20250113T174236Z
UID:26752-1755800100-1755806400@www.westgateneighbors.org
SUMMARY:CWRC “Trail” Thursdays
DESCRIPTION:Park in the gravel area. Headlamps required until Mar 6\, 2025\n(2 and 4-mile loops) \nhttps://www.facebook.com/ColumbusWestsideRunningClub
URL:https://www.westgateneighbors.org/event-calendar/cwrc-trail-thursdays-33/
LOCATION:Battelle Darby Metro Park\, 8465 Alkire Rd\, Grove City\, OH\, 43123
CATEGORIES:Columbus Westside Running Club,“Trail” Thursdays
END:VEVENT
BEGIN:VEVENT
DTSTART;TZID=America/Detroit:20250821T170000
DTEND;TZID=America/Detroit:20250821T200000
DTSTAMP:20260421T040912
CREATED:20250804T212321Z
LAST-MODIFIED:20250804T212417Z
UID:30519-1755795600-1755806400@www.westgateneighbors.org
SUMMARY:Westgate Night Out - Thunderwing Brewing
DESCRIPTION:Come out for an evening with friends and neighbors at Thunderwing Brewing at 2419 Scioto Harper Dr. on Thursday\, August 21 from 5-8 PM. Grab dinner from the Tortilla Mexican Street Food truck and a cold drink from Thunderwing. Play some pinball\, a board game or just hang out on the patio!
URL:https://www.westgateneighbors.org/event-calendar/westgate-night-out-thunderwing-brewing-2/
LOCATION:Thunderwing Brewing\, 2419 Scioto Harper Drive\, Columbus\, OH\, 43204
CATEGORIES:Westgate Night Out
ATTACH;FMTTYPE=image/png:https://www.westgateneighbors.org/wp-content/uploads/2024/01/Screenshot-2024-11-06-at-3.47.00 PM.png
END:VEVENT
BEGIN:VEVENT
DTSTART;TZID=America/Detroit:20250819T181500
DTEND;TZID=America/Detroit:20250819T200000
DTSTAMP:20260421T040912
CREATED:20250112T155337Z
LAST-MODIFIED:20250113T174237Z
UID:26706-1755627300-1755633600@www.westgateneighbors.org
SUMMARY:CWRC “Loopy” Tuesdays
DESCRIPTION:Park by the Water Towers\n(1-mile loops) \nhttps://www.facebook.com/ColumbusWestsideRunningClub
URL:https://www.westgateneighbors.org/event-calendar/cwrc-loopy-tuesdays-33/
LOCATION:Westgate Park – Enclosed Shelterhouse\, 3271 Wicklow Rd.\, Columbus\, Ohio\, 43204
CATEGORIES:Columbus Westside Running Club,“Loopy” Tuesdays
END:VEVENT
BEGIN:VEVENT
DTSTART;TZID=America/Detroit:20250816T090000
DTEND;TZID=America/Detroit:20250816T120000
DTSTAMP:20260421T040912
CREATED:20250111T224641Z
LAST-MODIFIED:20250113T174237Z
UID:26440-1755334800-1755345600@www.westgateneighbors.org
SUMMARY:Westgate Farmers Market
DESCRIPTION:Our Mission\nThe Westgate Farmers Market was created by residents seeking to address important community needs: \n\n\nmake healthy\, locally-produced foods more accessible to west side residents \n\n\nteach residents the benefits of including locally-grown produce in their shopping and daily meal planning \n\n\n\n\n\n\n\n\n\n\n\n\nGood food brings communities together.\n\n\n\n\nFRESH PRODUCE • HANDCRAFTED GOODS • LIVE MUSIC • FOOD TRUCKS
URL:https://www.westgateneighbors.org/event-calendar/westgate-farmers-market-6/
LOCATION:West Gate Lodge No. 623 F&AM\, 2925 W Broad St\, Columbus\, OH\, 43204\, United States
CATEGORIES:Westgate Farmers Market
END:VEVENT
BEGIN:VEVENT
DTSTART;TZID=America/Detroit:20250816T070000
DTEND;TZID=America/Detroit:20250816T090000
DTSTAMP:20260421T040912
CREATED:20250112T001740Z
LAST-MODIFIED:20250113T174237Z
UID:26557-1755327600-1755334800@www.westgateneighbors.org
SUMMARY:CWRC “Long Run” Saturdays
DESCRIPTION:Columbus Westside Running Club “Long Run” Saturdays \n\n7:00 a.m. “Summer” (June 7\, 2025 – September 27\, 2025)\n8:00 a.m. “Winter” (October 25\, 2025 – June 6\, 2026)\n\nAny distance\, out-and-back \nRefer to the website for any changes. \nhttps://www.facebook.com/ColumbusWestsideRunningClub
URL:https://www.westgateneighbors.org/event-calendar/cwrc-long-run-saturdays-12/
LOCATION:Glenwood United Methodist Church\, 2833 Valleyview Dr\, Columbus\, OH\, 43204
CATEGORIES:Columbus Westside Running Club,“Long Run” Saturdays
END:VEVENT
BEGIN:VEVENT
DTSTART;TZID=America/Detroit:20250814T181500
DTEND;TZID=America/Detroit:20250814T200000
DTSTAMP:20260421T040912
CREATED:20250112T154207Z
LAST-MODIFIED:20250113T174237Z
UID:26668-1755195300-1755201600@www.westgateneighbors.org
SUMMARY:CWRC “Trail” Thursdays
DESCRIPTION:Park in the gravel area. Headlamps required until Mar 6\, 2025\n(2 and 4-mile loops) \nhttps://www.facebook.com/ColumbusWestsideRunningClub
URL:https://www.westgateneighbors.org/event-calendar/cwrc-trail-thursdays-32/
LOCATION:Battelle Darby Metro Park\, 8465 Alkire Rd\, Grove City\, OH\, 43123
CATEGORIES:Columbus Westside Running Club,“Trail” Thursdays
END:VEVENT
BEGIN:VEVENT
DTSTART;TZID=America/Detroit:20250812T181500
DTEND;TZID=America/Detroit:20250812T200000
DTSTAMP:20260421T040912
CREATED:20250112T155323Z
LAST-MODIFIED:20250113T174238Z
UID:26705-1755022500-1755028800@www.westgateneighbors.org
SUMMARY:CWRC “Loopy” Tuesdays
DESCRIPTION:Park by the Water Towers\n(1-mile loops) \nhttps://www.facebook.com/ColumbusWestsideRunningClub
URL:https://www.westgateneighbors.org/event-calendar/cwrc-loopy-tuesdays-32/
LOCATION:Westgate Park – Enclosed Shelterhouse\, 3271 Wicklow Rd.\, Columbus\, Ohio\, 43204
CATEGORIES:Columbus Westside Running Club,“Loopy” Tuesdays
END:VEVENT
BEGIN:VEVENT
DTSTART;TZID=America/Detroit:20250811T180000
DTEND;TZID=America/Detroit:20250811T190000
DTSTAMP:20260421T040912
CREATED:20250111T233841Z
LAST-MODIFIED:20250113T174238Z
UID:26507-1754935200-1754938800@www.westgateneighbors.org
SUMMARY:WNA Board Meeting
DESCRIPTION:
URL:https://www.westgateneighbors.org/event-calendar/wna-board-meeting-6/
LOCATION:Columbus Metropolitan Library – Hilltop Branch\, 511 S Hague Ave\, Columbus\, OH\, 43202
CATEGORIES:Westgate Neighbors Association,WNA Board Meeting
END:VEVENT
BEGIN:VEVENT
DTSTART;TZID=America/Detroit:20250809T100000
DTEND;TZID=America/Detroit:20250809T190000
DTSTAMP:20260421T040912
CREATED:20250112T004138Z
LAST-MODIFIED:20250113T174238Z
UID:26598-1754733600-1754766000@www.westgateneighbors.org
SUMMARY:Hilltop Hop
DESCRIPTION:The businesses of Broad & Westmoor welcome all to the second Saturday of every month! \n\nThird Way Coffee House – Grab a drink!\nBest Side Design – Pop-up shop with local vendors\nClay Street Ceramics – paint your own pottery.
URL:https://www.westgateneighbors.org/event-calendar/hilltop-hop-8/
LOCATION:Broad & Westmoor Businesses\, 3058 W Broad St\, Columbus\, OH\, 43204
CATEGORIES:Hilltop Hop
END:VEVENT
BEGIN:VEVENT
DTSTART;TZID=America/Detroit:20250809T090000
DTEND;TZID=America/Detroit:20250809T120000
DTSTAMP:20260421T040912
CREATED:20250111T220828Z
LAST-MODIFIED:20250113T174238Z
UID:26387-1754730000-1754740800@www.westgateneighbors.org
SUMMARY:Breakfast at the Lodge
DESCRIPTION:A $8 donation is requested for adults\, $4 for kids. Choose from scrambled/fried eggs\, hash browns\, bacon\, sausage links\, toast\, biscuits and gravy\, pancakes\, French toast with toppings\, orange/apple juice/bottled water.\n\nWe accept cash\, check\, credit/debit card\, Venmo\, paypal\, you can use PayPal by entering our email (westgate623@gmail.com) or our PayPal me link (PayPal.me/westgatelodge) online or scanning our QR barcode at our check in table. Or if you can’t make the breakfast you are more than welcome to still donate to our charities from home\, or buy someone’s breakfast for them. Please put in the note section what the money is for.\n\n100% of the proceeds benefit Special Olympics and 2 Masonic youth groups
URL:https://www.westgateneighbors.org/event-calendar/breakfast-at-the-lodge-8/
LOCATION:West Gate Lodge No. 623 F&AM\, 2925 W Broad St\, Columbus\, OH\, 43204\, United States
CATEGORIES:Breakfast at the Lodge
END:VEVENT
BEGIN:VEVENT
DTSTART;TZID=America/Detroit:20250809T070000
DTEND;TZID=America/Detroit:20250809T090000
DTSTAMP:20260421T040912
CREATED:20250112T001745Z
LAST-MODIFIED:20250113T174238Z
UID:26558-1754722800-1754730000@www.westgateneighbors.org
SUMMARY:CWRC “Long Run” Saturdays
DESCRIPTION:Columbus Westside Running Club “Long Run” Saturdays \n\n7:00 a.m. “Summer” (June 7\, 2025 – September 27\, 2025)\n8:00 a.m. “Winter” (October 25\, 2025 – June 6\, 2026)\n\nAny distance\, out-and-back \nRefer to the website for any changes. \nhttps://www.facebook.com/ColumbusWestsideRunningClub
URL:https://www.westgateneighbors.org/event-calendar/cwrc-long-run-saturdays-11/
LOCATION:Glenwood United Methodist Church\, 2833 Valleyview Dr\, Columbus\, OH\, 43204
CATEGORIES:Columbus Westside Running Club,“Long Run” Saturdays
END:VEVENT
BEGIN:VEVENT
DTSTART;TZID=America/Detroit:20250807T181500
DTEND;TZID=America/Detroit:20250807T200000
DTSTAMP:20260421T040912
CREATED:20250112T154207Z
LAST-MODIFIED:20250113T174238Z
UID:26667-1754590500-1754596800@www.westgateneighbors.org
SUMMARY:CWRC “Trail” Thursdays
DESCRIPTION:Park in the gravel area. Headlamps required until Mar 6\, 2025\n(2 and 4-mile loops) \nhttps://www.facebook.com/ColumbusWestsideRunningClub
URL:https://www.westgateneighbors.org/event-calendar/cwrc-trail-thursdays-31/
LOCATION:Battelle Darby Metro Park\, 8465 Alkire Rd\, Grove City\, OH\, 43123
CATEGORIES:Columbus Westside Running Club,“Trail” Thursdays
END:VEVENT
BEGIN:VEVENT
DTSTART;TZID=America/Detroit:20250805T183000
DTEND;TZID=America/Detroit:20250805T203000
DTSTAMP:20260421T040912
CREATED:20250111T222900Z
LAST-MODIFIED:20250113T174238Z
UID:26411-1754418600-1754425800@www.westgateneighbors.org
SUMMARY:Greater Hilltop Area Commission Meeting
DESCRIPTION:
URL:https://www.westgateneighbors.org/event-calendar/greater-hilltop-area-commission-meeting-7/
LOCATION:Columbus Metropolitan Library – Hilltop Branch\, 511 S Hague Ave\, Columbus\, OH\, 43202
CATEGORIES:Greater Hilltop Area Commission Meeting
END:VEVENT
BEGIN:VEVENT
DTSTART;TZID=America/Detroit:20250805T181500
DTEND;TZID=America/Detroit:20250805T200000
DTSTAMP:20260421T040912
CREATED:20250112T155322Z
LAST-MODIFIED:20250113T174238Z
UID:26704-1754417700-1754424000@www.westgateneighbors.org
SUMMARY:CWRC “Loopy” Tuesdays
DESCRIPTION:Park by the Water Towers\n(1-mile loops) \nhttps://www.facebook.com/ColumbusWestsideRunningClub
URL:https://www.westgateneighbors.org/event-calendar/cwrc-loopy-tuesdays-31/
LOCATION:Westgate Park – Enclosed Shelterhouse\, 3271 Wicklow Rd.\, Columbus\, Ohio\, 43204
CATEGORIES:Columbus Westside Running Club,“Loopy” Tuesdays
END:VEVENT
BEGIN:VEVENT
DTSTART;TZID=America/Detroit:20250802T090000
DTEND;TZID=America/Detroit:20250802T120000
DTSTAMP:20260421T040912
CREATED:20250111T224554Z
LAST-MODIFIED:20250113T174239Z
UID:26438-1754125200-1754136000@www.westgateneighbors.org
SUMMARY:Westgate Farmers Market
DESCRIPTION:Our Mission\nThe Westgate Farmers Market was created by residents seeking to address important community needs: \n\n\nmake healthy\, locally-produced foods more accessible to west side residents \n\n\nteach residents the benefits of including locally-grown produce in their shopping and daily meal planning \n\n\n\n\n\n\n\n\n\n\n\n\nGood food brings communities together.\n\n\n\n\nFRESH PRODUCE • HANDCRAFTED GOODS • LIVE MUSIC • FOOD TRUCKS
URL:https://www.westgateneighbors.org/event-calendar/westgate-farmers-market-5/
LOCATION:West Gate Lodge No. 623 F&AM\, 2925 W Broad St\, Columbus\, OH\, 43204\, United States
CATEGORIES:Westgate Farmers Market
END:VEVENT
BEGIN:VEVENT
DTSTART;TZID=America/Detroit:20250802T070000
DTEND;TZID=America/Detroit:20250802T090000
DTSTAMP:20260421T040912
CREATED:20250112T001750Z
LAST-MODIFIED:20250113T174239Z
UID:26559-1754118000-1754125200@www.westgateneighbors.org
SUMMARY:CWRC “Long Run” Saturdays
DESCRIPTION:Columbus Westside Running Club “Long Run” Saturdays \n\n7:00 a.m. “Summer” (June 7\, 2025 – September 27\, 2025)\n8:00 a.m. “Winter” (October 25\, 2025 – June 6\, 2026)\n\nAny distance\, out-and-back \nRefer to the website for any changes. \nhttps://www.facebook.com/ColumbusWestsideRunningClub
URL:https://www.westgateneighbors.org/event-calendar/cwrc-long-run-saturdays-10/
LOCATION:Glenwood United Methodist Church\, 2833 Valleyview Dr\, Columbus\, OH\, 43204
CATEGORIES:Columbus Westside Running Club,“Long Run” Saturdays
END:VEVENT
BEGIN:VEVENT
DTSTART;TZID=America/Detroit:20250731T181500
DTEND;TZID=America/Detroit:20250731T200000
DTSTAMP:20260421T040912
CREATED:20250112T154207Z
LAST-MODIFIED:20250113T174239Z
UID:26666-1753985700-1753992000@www.westgateneighbors.org
SUMMARY:CWRC “Trail” Thursdays
DESCRIPTION:Park in the gravel area. Headlamps required until Mar 6\, 2025\n(2 and 4-mile loops) \nhttps://www.facebook.com/ColumbusWestsideRunningClub
URL:https://www.westgateneighbors.org/event-calendar/cwrc-trail-thursdays-30/
LOCATION:Battelle Darby Metro Park\, 8465 Alkire Rd\, Grove City\, OH\, 43123
CATEGORIES:Columbus Westside Running Club,“Trail” Thursdays
END:VEVENT
BEGIN:VEVENT
DTSTART;TZID=America/Detroit:20250729T181500
DTEND;TZID=America/Detroit:20250729T200000
DTSTAMP:20260421T040912
CREATED:20250112T155322Z
LAST-MODIFIED:20250113T174239Z
UID:26703-1753812900-1753819200@www.westgateneighbors.org
SUMMARY:CWRC “Loopy” Tuesdays
DESCRIPTION:Park by the Water Towers\n(1-mile loops) \nhttps://www.facebook.com/ColumbusWestsideRunningClub
URL:https://www.westgateneighbors.org/event-calendar/cwrc-loopy-tuesdays-30/
LOCATION:Westgate Park – Enclosed Shelterhouse\, 3271 Wicklow Rd.\, Columbus\, Ohio\, 43204
CATEGORIES:Columbus Westside Running Club,“Loopy” Tuesdays
END:VEVENT
BEGIN:VEVENT
DTSTART;TZID=America/Detroit:20250726T070000
DTEND;TZID=America/Detroit:20250726T090000
DTSTAMP:20260421T040912
CREATED:20250112T000350Z
LAST-MODIFIED:20250113T174239Z
UID:26541-1753513200-1753520400@www.westgateneighbors.org
SUMMARY:CWRC “Long Run” Saturdays
DESCRIPTION:Columbus Westside Running Club “Long Run” Saturdays \n\n7:00 a.m. “Summer” (June 7\, 2025 – September 27\, 2025)\n8:00 a.m. “Winter” (October 25\, 2025 – June 6\, 2026)\n\nAny distance\, out-and-back \nRefer to the website for any changes. \nhttps://www.facebook.com/ColumbusWestsideRunningClub
URL:https://www.westgateneighbors.org/event-calendar/cwrc-long-run-saturdays-9/
LOCATION:Glenwood United Methodist Church\, 2833 Valleyview Dr\, Columbus\, OH\, 43204
CATEGORIES:Columbus Westside Running Club,“Long Run” Saturdays
END:VEVENT
BEGIN:VEVENT
DTSTART;TZID=America/Detroit:20250724T181500
DTEND;TZID=America/Detroit:20250724T200000
DTSTAMP:20260421T040912
CREATED:20250112T154207Z
LAST-MODIFIED:20250113T174239Z
UID:26665-1753380900-1753387200@www.westgateneighbors.org
SUMMARY:CWRC “Trail” Thursdays
DESCRIPTION:Park in the gravel area. Headlamps required until Mar 6\, 2025\n(2 and 4-mile loops) \nhttps://www.facebook.com/ColumbusWestsideRunningClub
URL:https://www.westgateneighbors.org/event-calendar/cwrc-trail-thursdays-29/
LOCATION:Battelle Darby Metro Park\, 8465 Alkire Rd\, Grove City\, OH\, 43123
CATEGORIES:Columbus Westside Running Club,“Trail” Thursdays
END:VEVENT
BEGIN:VEVENT
DTSTART;TZID=America/Detroit:20250723T180000
DTEND;TZID=America/Detroit:20250723T200000
DTSTAMP:20260421T040912
CREATED:20250315T194344Z
LAST-MODIFIED:20250315T194344Z
UID:29664-1753293600-1753300800@www.westgateneighbors.org
SUMMARY:Friends of Westgate Park - Evening Clean Up
DESCRIPTION:Friends of Westgate Park is an all-volunteer nonprofit working to beautify Westgate Park by maintaining flower beds\, planting trees\, cleaning up litter\, and raising funds for park improvements. All are welcome to join us for our various activities and meetings. \nCheck the Friends of Westgate Park Facebook Page for additional event details. All clean up events are weather-dependent\, and cancellations or reschedules will be communicated via Facebook. Gardening equipment will be provided\, but please bring your own work gloves if you have them. We do not have access to a bathroom or water fountain at our work sites. \nAlso check out our Instagram page! \nMEETING LOCATIONS \n\nClean Up events: Parking lot of the Enclosed Shelterhouse\, 3271 Wicklow Rd.\nMonthly board meetings: Hilltop Branch of Columbus Public library
URL:https://www.westgateneighbors.org/event-calendar/friends-of-westgate-park-evening-clean-up-3/
LOCATION:Westgate Park – Enclosed Shelterhouse\, 3271 Wicklow Rd.\, Columbus\, Ohio\, 43204
CATEGORIES:Evening Clean Up,Friends of Westgate Park
ORGANIZER;CN="Friends of Westgate Park":MAILTO:friendsofwestgateparkcolumbus@gmail.com
END:VEVENT
BEGIN:VEVENT
DTSTART;TZID=America/Detroit:20250722T181500
DTEND;TZID=America/Detroit:20250722T200000
DTSTAMP:20260421T040912
CREATED:20250112T155321Z
LAST-MODIFIED:20250113T174239Z
UID:26702-1753208100-1753214400@www.westgateneighbors.org
SUMMARY:CWRC “Loopy” Tuesdays
DESCRIPTION:Park by the Water Towers\n(1-mile loops) \nhttps://www.facebook.com/ColumbusWestsideRunningClub
URL:https://www.westgateneighbors.org/event-calendar/cwrc-loopy-tuesdays-29/
LOCATION:Westgate Park – Enclosed Shelterhouse\, 3271 Wicklow Rd.\, Columbus\, Ohio\, 43204
CATEGORIES:Columbus Westside Running Club,“Loopy” Tuesdays
END:VEVENT
BEGIN:VEVENT
DTSTART;TZID=America/Detroit:20250719T120000
DTEND;TZID=America/Detroit:20250719T190000
DTSTAMP:20260421T040912
CREATED:20250111T202426Z
LAST-MODIFIED:20250113T174239Z
UID:26293-1752926400-1752951600@www.westgateneighbors.org
SUMMARY:Summer Jam West
DESCRIPTION:
URL:https://www.westgateneighbors.org/event-calendar/summer-jam-west/
LOCATION:Westgate Community Recreation Center\, 455 S Westgate Ave\, Columbus\, OH\, 43204
CATEGORIES:Hilltop Arts Collective,Summer Jam West
END:VEVENT
BEGIN:VEVENT
DTSTART;TZID=America/Detroit:20250719T090000
DTEND;TZID=America/Detroit:20250719T120000
DTSTAMP:20260421T040912
CREATED:20250111T224510Z
LAST-MODIFIED:20250113T174239Z
UID:26436-1752915600-1752926400@www.westgateneighbors.org
SUMMARY:Westgate Farmers Market
DESCRIPTION:Our Mission\nThe Westgate Farmers Market was created by residents seeking to address important community needs: \n\n\nmake healthy\, locally-produced foods more accessible to west side residents \n\n\nteach residents the benefits of including locally-grown produce in their shopping and daily meal planning \n\n\n\n\n\n\n\n\n\n\n\n\nGood food brings communities together.\n\n\n\n\nFRESH PRODUCE • HANDCRAFTED GOODS • LIVE MUSIC • FOOD TRUCKS
URL:https://www.westgateneighbors.org/event-calendar/westgate-farmers-market-4/
LOCATION:West Gate Lodge No. 623 F&AM\, 2925 W Broad St\, Columbus\, OH\, 43204\, United States
CATEGORIES:Westgate Farmers Market
END:VEVENT
BEGIN:VEVENT
DTSTART;TZID=America/Detroit:20250719T070000
DTEND;TZID=America/Detroit:20250719T090000
DTSTAMP:20260421T040912
CREATED:20250112T000345Z
LAST-MODIFIED:20250113T174240Z
UID:26540-1752908400-1752915600@www.westgateneighbors.org
SUMMARY:CWRC “Long Run” Saturdays
DESCRIPTION:Columbus Westside Running Club “Long Run” Saturdays \n\n7:00 a.m. “Summer” (June 7\, 2025 – September 27\, 2025)\n8:00 a.m. “Winter” (October 25\, 2025 – June 6\, 2026)\n\nAny distance\, out-and-back \nRefer to the website for any changes.
URL:https://www.westgateneighbors.org/event-calendar/cwrc-long-run-saturdays-8/
LOCATION:Glenwood United Methodist Church\, 2833 Valleyview Dr\, Columbus\, OH\, 43204
CATEGORIES:Columbus Westside Running Club,“Long Run” Saturdays
END:VEVENT
BEGIN:VEVENT
DTSTART;TZID=America/Detroit:20250717T181500
DTEND;TZID=America/Detroit:20250717T200000
DTSTAMP:20260421T040912
CREATED:20250112T154207Z
LAST-MODIFIED:20250113T174240Z
UID:26664-1752776100-1752782400@www.westgateneighbors.org
SUMMARY:CWRC “Trail” Thursdays
DESCRIPTION:Park in the gravel area. Headlamps required until Mar 6\, 2025\n(2 and 4-mile loops) \nhttps://www.facebook.com/ColumbusWestsideRunningClub
URL:https://www.westgateneighbors.org/event-calendar/cwrc-trail-thursdays-28/
LOCATION:Battelle Darby Metro Park\, 8465 Alkire Rd\, Grove City\, OH\, 43123
CATEGORIES:Columbus Westside Running Club,“Trail” Thursdays
END:VEVENT
BEGIN:VEVENT
DTSTART;TZID=America/Detroit:20250715T181500
DTEND;TZID=America/Detroit:20250715T200000
DTSTAMP:20260421T040912
CREATED:20250112T155321Z
LAST-MODIFIED:20250113T174240Z
UID:26701-1752603300-1752609600@www.westgateneighbors.org
SUMMARY:CWRC “Loopy” Tuesdays
DESCRIPTION:Park by the Water Towers\n(1-mile loops) \nhttps://www.facebook.com/ColumbusWestsideRunningClub
URL:https://www.westgateneighbors.org/event-calendar/cwrc-loopy-tuesdays-28/
LOCATION:Westgate Park – Enclosed Shelterhouse\, 3271 Wicklow Rd.\, Columbus\, Ohio\, 43204
CATEGORIES:Columbus Westside Running Club,“Loopy” Tuesdays
END:VEVENT
BEGIN:VEVENT
DTSTART;TZID=America/Detroit:20250714T180000
DTEND;TZID=America/Detroit:20250714T190000
DTSTAMP:20260421T040912
CREATED:20250111T233814Z
LAST-MODIFIED:20250113T174240Z
UID:26506-1752516000-1752519600@www.westgateneighbors.org
SUMMARY:WNA Board Meeting
DESCRIPTION:
URL:https://www.westgateneighbors.org/event-calendar/wna-board-meeting-5/
LOCATION:Columbus Metropolitan Library – Hilltop Branch\, 511 S Hague Ave\, Columbus\, OH\, 43202
CATEGORIES:Westgate Neighbors Association,WNA Board Meeting
END:VEVENT
BEGIN:VEVENT
DTSTART;TZID=America/Detroit:20250712T100000
DTEND;TZID=America/Detroit:20250712T190000
DTSTAMP:20260421T040912
CREATED:20250112T004141Z
LAST-MODIFIED:20250113T174240Z
UID:26599-1752314400-1752346800@www.westgateneighbors.org
SUMMARY:Hilltop Hop
DESCRIPTION:The businesses of Broad & Westmoor welcome all to the second Saturday of every month! \n\nThird Way Coffee House – Grab a drink!\nBest Side Design – Pop-up shop with local vendors\nClay Street Ceramics – paint your own pottery.
URL:https://www.westgateneighbors.org/event-calendar/hilltop-hop-7/
LOCATION:Broad & Westmoor Businesses\, 3058 W Broad St\, Columbus\, OH\, 43204
CATEGORIES:Hilltop Hop
END:VEVENT
END:VCALENDAR